Workbook

Sheet Méthode F
A2: PARTIE FINANCIERE
B5: Récapitulatif :
B7: Objectif | C7: Variable d'action | D7: Indicateur
A8: 1 | B8: Assurer une survie à court et long terme | C8: Être liquide et solvable | D8: Position de trésorerie nette
A9: 2 | C9: Être rentable | D9: Marge nette
A10: 3 | B10: Réinvestir dans le projet | C10: Générer des liquidités | D10: Flux de trésorerie (cash flows)
A11: 4 | D11: Bénéfice reporté
A12: 5 | B12: Adopter une politique du prix juste | C12: Proposer un prix accessible pour les consommateurs, tout en rémunérant décemment des producteurs | D12: Marge brute moyenne par type de produit + totale
A13: 6 | B13: Optimiser la gestion des stocks | C13: Connaitre le rythme des ventes par type de produit | D13: Quantités vendues/type de produit
A14: 7 | C14: Connaitre le taux de rotation des stocks | D14: Taux de rotation des stocks
A15: 8 | C15: Connaitre la durée moyenne de stockage | D15: Durée moyenne de stockage
B18: Méthode utilisée:
B20: Toutes les informations de référence pour les prévisions proviennent du plan financier au 15 juin 2016
B21: Toutes les formules utilisées sont à chaque fois explicitées dans les onglets concernés
B22: Ce qui suit est un détail de la provenance des informations utilisées dans le tableau de bord
B23: Si une information n'est pas reprise ci-dessous, cela signifique que la formule utilisée est visible dans la cellule ou que l'information est détaillée avant
B24: Les cellules en fond orange clair devront contenir les valeurs réelles observées
A26: 1 | B26: Position de trésorerie nette: | C26: Onglet "bilan" du plan financier
B28: FRN = actifs circulants - dettes CT
B29: Les valeurs trouvées pour les actifs circulants viennent de la rubrique du même nom
B30: Les valeurs trouvées pour les dettes court terme viennent de la rubrique "autres dettes"
B32: BFR = BFR exploitation + BFR divers
B33: BFR exploitation:
B34: Les valeurs trouvées pour les stocks viennent de la sous-rubrique "stocks" de la rubrique "actifs circulants"
B35: Les valeurs trouvées pour les créances commerciales viennent de la sous-rubrique du même nom de la rubrique "actifs circulants"
B36: Les valeurs trouvées pour les dettes commerciales viennent de la sous-rubrique du même nom de la rubrique "autres dettes"
B38: BFR divers:
B39: Les valeurs pour les autres créances viennent de la sous-rubrique "compte courant TVA" de la rubrique "actifs circulants"
B40: Les valeurs pour les autres dettes court terme viennent de la sous-rubrique "compte courant TVA" de la rubrique "autres dettes"
A42: 2 | B42: Marge nette: | C42: Onglet "résultats" du plan financier
B44: Résultat d'exploitation = produits d'exploitation - charges d'exploitation
B45: Produits d'exploitation:
B46: Les valeurs trouvées pour le chiffre d'affaires viennent des sous-rubriques "produits alimentaires", "boissons" et "produits non alimentaires" de la rubrique "chiffre d'affaires"
B47: Les valeurs trouvées pour les autres produits d'exploitation viennent de la sous-rubrique du même nom de la rubrique "chiffre d'affaires"
B49: Charges d'exploitation:
B50: Les valeurs trouvées pour le coût des ventes viennent de la rubrique du même nom
B51: Les valeurs trouvées pour les services et biens divers viennent des comptes 61 de la rubrique "frais généraux"
B52: Les valeurs trouvées pour les rémunérations viennent des comptes 62 de la rubrique "frais généraux" et de la rubrique "rémunérations"
B53: Les valeurs trouvées pour les amortissements viennent de la rubrique "amortissements"
B54: Les valeurs trouvées pour les autres charges d'exploitation viennent des comptes 64 de la rubrique "frais généraux"
...

Sheet Vue d'ensemble F
A2: PARTIE FINANCIERE
F8: =TODAY() -> 42563
D11: Tableau de bord - Partie financière

Sheet 1+2 F
A2: PARTIE FINANCIERE
B7: Objectif | C7: Variable d'action | D7: Indicateur
A8: 1 | B8: Assurer une survie à court et long terme | C8: Être liquide et solvable | D8: Position de trésorerie nette
A9: 2 | C9: Être rentable | D9: Marge nette
A12: 1. Position de trésorerie nette
A14: Formules
B16: PTN = FRN - BFR
B18: FRN = actifs circulants - dettes CT
B20: BFR = BFR exploitation + BFR divers
B21: BFR exploitation = stocks et commandes en cours d'exécution + créances commerciales - dettes commerciales
B22: BFR divers = autres créances + compte de régularisation actif - dettes à plus d'un an échéant dans l'année -
B23: autres dettes à court terme - compte de régularisation passif
A25: Calculs - Prévisions
B27: FRN
C28: 2016 | D28: 2017 | E28: 2018 | F28: 2019 | G28: 2020
B29: Actifs circulants | C29: 84098 | D29: 157699 | E29: 268038 | F29: 355886 | G29: 406989
B30: Dettes CT | C30: 63252 | D30: 130831 | E30: 193590 | F30: 220790 | G30: 230754
B31: FRN | C31: =C29-C30 -> 20846 | D31: =D29-D30 -> 26868 | E31: =E29-E30 -> 74448 | F31: =F29-F30 -> 135096 | G31: =G29-G30 -> 176235
B34: BFR exploitation
C35: 2016 | D35: 2017 | E35: 2018 | F35: 2019 | G35: 2020
B36: Stocks | C36: 50960 | D36: 64634 | E36: 100300 | F36: 116099 | G36: 122467
B37: Créances commerciales | C37: 0 | D37: 0 | E37: 0 | F37: 0 | G37: 0
B38: Dettes commerciales | C38: 63252 | D38: 130831 | E38: 189921 | F38: 215265 | G38: 224972
B39: BFR exploitation | C39: =C36+C37-C38 -> -12292 | D39: =D36+D37-D38 -> -66197 | E39: =E36+E37-E38 -> -89621 | F39: =F36+F37-F38 -> -99166 | G39: =G36+G37-G38 -> -102505
B42: BFR divers
C43: 2016 | D43: 2017 | E43: 2018 | F43: 2019 | G43: 2020
B44: Autres créances (TVA) | C44: 7101 | D44: 106 | E44: 0 | F44: 0 | G44: 0
B45: Régul. actif | C45: 0 | D45: 0 | E45: 0 | F45: 0 | G45: 0
B46: Dettes LT échéant dans l'année | C46: 0 | D46: 0 | E46: 0 | F46: 0 | G46: 0
B47: Autres dettes CT (TVA) | C47: 0 | D47: 0 | E47: 3669 | F47: 5525 | G47: 5782
B48: Régul. passif | C48: 0 | D48: 0 | E48: 0 | F48: 0 | G48: 0
B49: BFR divers | C49: =C44+C45-C46-C47-C48 -> 7101 | D49: =D44+D45-D46-D47-D48 -> 106 | E49: =E44+E45-E46-E47-E48 -> -3669 | F49: =F44+F45-F46-F47-F48 -> -5525 | G49: =G44+G45-G46-G47-G48 -> -5782
B52: BFR total
C53: 2016 | D53: 2017 | E53: 2018 | F53: 2019 | G53: 2020
B54: BFR | C54: =C39+C49 -> -5191 | D54: =D39+D49 -> -66091 | E54: =E39+E49 -> -93290 | F54: =F39+F49 -> -104691 | G54: =G39+G49 -> -108287
B57: PTN
C58: 2016 | D58: 2017 | E58: 2018 | F58: 2019 | G58: 2020
B59: PTN | C59: =C31-C54 -> 26037 | D59: =D31-D54 -> 92959 | E59: =E31-E54 -> 167738 | F59: =F31-F54 -> 239787 | G59: =G31-G54 -> 284522
A78: Calculs - Réel
B80: FRN
...

Sheet 3+4 F
A2: PARTIE FINANCIERE
B7: Objectif | C7: Variable d'action | D7: Indicateur
A8: 3 | B8: Réinvestir dans le projet | C8: Générer des liquidités | D8: Flux de trésorerie (cash flows)
A9: 4 | D9: Bénéfice reporté
A12: 3. Cash flows
A14: Formules
B16: Variation de trésorerie = CF opérationnel + CF financier - CF investissement
B18: CF opérationnel = résultat net + dotations aux amortissements, provisions, réductions de valeur - variation BFR
B20: CF financier = émissions d'actions + variation dettes LT + variation dettes CT financières - rachats
B22: CF investissement = acquisitions - cessions actifs immobilisés
A24: Calculs - Prévisions
B26: Variation BFR
C27: 2016 | D27: 2017 | E27: 2018 | F27: 2019 | G27: 2020
B28: BFR | C28: ='1+2 F'!C54 -> -5191 | D28: ='1+2 F'!D54 -> -66091 | E28: ='1+2 F'!E54 -> -93290 | F28: ='1+2 F'!F54 -> -104691 | G28: ='1+2 F'!G54 -> -108287
B29: Variation BFR | C29: =C28 -> -5191 | D29: =D28-C28 -> -60900 | E29: =E28-D28 -> -27199 | F29: =F28-E28 -> -11401 | G29: =G28-F28 -> -3596
B32: CF opérationnel
C33: 2016 | D33: 2017 | E33: 2018 | F33: 2019 | G33: 2020
B34: Résultat net | C34: ='1+2 F'!C205 -> -23622 | D34: ='1+2 F'!D205 -> -16176 | E34: ='1+2 F'!E205 -> 15983 | F34: ='1+2 F'!F205 -> 13826 | G34: ='1+2 F'!G205 -> 10265
B35: Amo., prov., réd. valeur | C35: ='1+2 F'!C178 -> 19161 | D35: ='1+2 F'!D178 -> 47261 | E35: ='1+2 F'!E178 -> 52730 | F35: ='1+2 F'!F178 -> 52730 | G35: ='1+2 F'!G178 -> 52730
B36: Variation BFR | C36: =C29 -> -5191 | D36: =D29 -> -60900 | E36: =E29 -> -27199 | F36: =F29 -> -11401 | G36: =G29 -> -3596
B37: CF opérationnel | C37: =C34+C35-C36 -> 730 | D37: =D34+D35-D36 -> 91985 | E37: =E34+E35-E36 -> 95912 | F37: =F34+F35-F36 -> 77957 | G37: =G34+G35-G36 -> 66591
B40: Variation dettes LT
C41: 2016 | D41: 2017 | E41: 2018 | F41: 2019 | G41: 2020
B42: Dettes LT | C42: 172675 | D42: 154612 | E42: 128619 | F42: 101711 | G42: 73856
B43: Variation dettes LT | C43: =C42 -> 172675 | D43: =D42-C42 -> -18063 | E43: =E42-D42 -> -25993 | F43: =F42-E42 -> -26908 | G43: =G42-F42 -> -27855
B46: Variation dettes CT fin.
C47: 2016 | D47: 2017 | E47: 2018 | F47: 2019 | G47: 2020
B48: Dettes CT fin. | C48: 0 | D48: 0 | E48: 0 | F48: 0 | G48: 0
B49: Variation dettes CT fin. | C49: =C48 -> 0 | D49: =D48-C48 -> 0 | E49: =E48-D48 -> 0 | F49: =F48-E48 -> 0 | G49: =G48-F48 -> 0
B52: CF financier
C53: 2016 | D53: 2017 | E53: 2018 | F53: 2019 | G53: 2020
B54: Emissions | C54: 101000 | D54: 50000 | E54: 35000 | F54: 21000 | G54: 6000
B55: Variation dettes LT | C55: =C43 -> 172675 | D55: =D43 -> -18063 | E55: =E43 -> -25993 | F55: =F43 -> -26908 | G55: =G43 -> -27855
B56: Variation dettes CT fin. | C56: =C49 -> 0 | D56: =D49 -> 0 | E56: =E49 -> 0 | F56: =F49 -> 0 | G56: =G49 -> 0
B57: Rachats | C57: 0 | D57: 0 | E57: 0 | F57: 0 | G57: 0
B58: CF financier | C58: =C54+C55+C56-C57 -> 273675 | D58: =D54+D55+D56-D57 -> 31937 | E58: =E54+E55+E56-E57 -> 9007 | F58: =F54+F55+F56-F57 -> -5908 | G58: =G54+G55+G56-G57 -> -21855
B61: CF investissement
C62: 2016 | D62: 2017 | E62: 2018 | F62: 2019 | G62: 2020
B63: Acquisitions | C63: 248367 | D63: 57000 | E63: 30139 | F63: 0 | G63: 0
B64: Cessions | C64: 0 | D64: 0 | E64: 0 | F64: 0 | G64: 0
...

Sheet 5 F
A2: PARTIE FINANCIERE
B7: Objectif | C7: Variable d'action | D7: Indicateur
A8: 5 | B8: Adopter une politique du prix juste | C8: Proposer un prix accessible pour les consommateurs, tout en rémunérant décemment des producteurs | D8: Marge brute moyenne par catégorie de produits + totale
A11: 5. Marge brute
A13: Formules
B15: Prix d'achat * Marge brute = Prix de vente
B16: Donc, Marge brute = Prix de vente/Prix d'achat
B18: L'information devrait rester constante et est reprise dans l'onglet "Détails Ventes" du plan financier
B20: Les catégories de produits : légumes frais, fruits frais-secs-conserves, sucres-chocolats-confiseries, lait-fromages-crèmerie,
B21: poisson, pains-céréales, viande-charcuterie, thés-cafés-tisanes, huiles-vinaigres, autres produits alimentaires,
B22: boissons alcoolisées, eaux-softs-jus, produits non alimentaires
A24: Calculs - Prévisions
B26: Marge brute moyenne
C27: 2016 | D27: 2017 | E27: 2018 | F27: 2019 | G27: 2020
B28: Légumes frais | C28: 1.3 | D28: 1.3 | E28: 1.3 | F28: 1.3 | G28: 1.3
B29: Fruits frais-secs-conserves | C29: 1.2 | D29: 1.2 | E29: 1.2 | F29: 1.2 | G29: 1.2
B30: Sucres-chocolats-confiseries | C30: 1.2 | D30: 1.2 | E30: 1.2 | F30: 1.2 | G30: 1.2
B31: Lait-fromages-crèmerie | C31: 1.15 | D31: 1.15 | E31: 1.15 | F31: 1.15 | G31: 1.15
B32: Poisson | C32: 1.25 | D32: 1.25 | E32: 1.25 | F32: 1.25 | G32: 1.25
B33: Pains-céréales | C33: 1.2 | D33: 1.2 | E33: 1.2 | F33: 1.2 | G33: 1.2
B34: Viande-charcuterie | C34: 1.25 | D34: 1.25 | E34: 1.25 | F34: 1.25 | G34: 1.25
B35: Thés-cafés-tisanes | C35: 1.15 | D35: 1.15 | E35: 1.15 | F35: 1.15 | G35: 1.15
B36: Huiles-vinaigres | C36: 1.2 | D36: 1.2 | E36: 1.2 | F36: 1.2 | G36: 1.2
B37: Autres produits alimentaires | C37: 1.2 | D37: 1.2 | E37: 1.2 | F37: 1.2 | G37: 1.2
B38: Boissons alcoolisées | C38: 1.2 | D38: 1.2 | E38: 1.2 | F38: 1.2 | G38: 1.2
B39: Eaux-softs-jus | C39: 1.2 | D39: 1.2 | E39: 1.2 | F39: 1.2 | G39: 1.2
B40: Produits non alimentaires | C40: 1.2 | D40: 1.2 | E40: 1.2 | F40: 1.2 | G40: 1.2
B41: Marge brute moyenne totale | C41: =SUM(C28:C40)/13 -> 1.2076923 | D41: =SUM(D28:D40)/13 -> 1.2076923 | E41: =SUM(E28:E40)/13 -> 1.2076923 | F41: =SUM(F28:F40)/13 -> 1.2076923 | G41: =SUM(G28:G40)/13 -> 1.2076923
A62: Calculs - Réel
B64: Prix de vente moyen
C65: 2016 | D65: 2017 | E65: 2018 | F65: 2019 | G65: 2020
B66: Légumes frais | C66: 2 | D66: 2 | E66: 2 | F66: 2 | G66: 2
B67: Fruits frais-secs-conserves | C67: 1 | D67: 2 | E67: 2 | F67: 2 | G67: 2
B68: Sucres-chocolats-confiseries | C68: 1 | D68: 1 | E68: 1 | F68: 1 | G68: 1
B69: Lait-fromages-crèmerie | C69: 2 | D69: 3 | E69: 3 | F69: 3 | G69: 3
B70: Poisson | C70: 1 | D70: 1 | E70: 1 | F70: 1 | G70: 1
B71: Pains-céréales | C71: 3 | D71: 4 | E71: 4 | F71: 4 | G71: 4
B72: Viande-charcuterie | C72: 3 | D72: 4 | E72: 5 | F72: 5 | G72: 5
B73: Thés-cafés-tisanes | C73: 1 | D73: 1 | E73: 1 | F73: 1 | G73: 1
B74: Huiles-vinaigres | C74: 1 | D74: 1 | E74: 1 | F74: 1 | G74: 1
...

Sheet 6 F
A2: PARTIE FINANCIERE
B7: Objectif | C7: Variable d'action | D7: Indicateur
A8: 6 | B8: Optimiser la gestion des stocks | C8: Connaitre le rythme des ventes par type de produit | D8: Quantités vendues/type de produit
A11: 6. Quantités vendues/type de produit
A13: Formules
B15: CA = Prix de vente * Quantités vendues
B16: Donc, Quantités vendues = CA/Prix de vente
B18: Les types de produits : légumes frais, fruits frais-secs-conserves, sucres-chocolats-confiseries, lait-fromages-crèmerie,
B19: poisson, pains-céréales, viande-charcuterie, thés-cafés-tisanes, huiles-vinaigres, autres produits alimentaires,
B20: boissons alcoolisées, eaux-softs-jus, produits non alimentaires
A22: Calculs - Prévisions
B24: Chiffre d'affaires total
C25: 2016 | D25: 2017 | E25: 2018 | F25: 2019 | G25: 2020
B26: Produits alimentaires | C26: 220547 | D26: 810841 | E26: 1350899 | F26: 1789481 | G26: 1967440
B27: Boissons | C27: 26455 | D27: 143056 | E27: 238338 | F27: 315716 | G27: 347114
B28: Produits non alimentaires | C28: 35217 | D28: 190436 | E28: 317275 | F28: 420282 | G28: 462078
B29: Chiffre d'affaires | C29: =SUM(C26:C28) -> 282219 | D29: =SUM(D26:D28) -> 1144333 | E29: =SUM(E26:E28) -> 1906512 | F29: =SUM(F26:F28) -> 2525479 | G29: =SUM(G26:G28) -> 2776632
B32: Chiffre d'affaires/produit
C33: % du panier total | D33: 2016 | E33: 2017 | F33: 2018 | G33: 2019 | H33: 2020
B34: Chiffre d'affaires total | D34: =C29 -> 282219 | E34: =D29 -> 1144333 | F34: =E29 -> 1906512 | G34: =F29 -> 2525479 | H34: =G29 -> 2776632
B35: Légumes frais | C35: 0.0826 | D35: =D34*C35 -> 23311.289 | E35: =E34*C35 -> 94521.906 | F35: =F34*C35 -> 157477.89 | G35: =G34*C35 -> 208604.57 | H35: =H34*C35 -> 229349.8
B36: Fruits frais-secs-conserves | C36: 0.0639 | D36: =D34*C36 -> 18033.794 | E36: =E34*C36 -> 73122.879 | F36: =F34*C36 -> 121826.12 | G36: =G34*C36 -> 161378.11 | H36: =H34*C36 -> 177426.78
B37: Sucres-chocolats-confiseries | C37: 0.0469 | D37: =D34*C37 -> 13236.071 | E37: =E34*C37 -> 53669.218 | F37: =F34*C37 -> 89415.413 | G37: =G34*C37 -> 118444.97 | H37: =H34*C37 -> 130224.04
B38: Lait-fromages-crèmerie | C38: 0.0974 | D38: =D34*C38 -> 27488.131 | E38: =E34*C38 -> 111458.03 | F38: =F34*C38 -> 185694.27 | G38: =G34*C38 -> 245981.65 | H38: =H34*C38 -> 270443.96
B39: Poisson | C39: 0.0461 | D39: =D34*C39 -> 13010.296 | E39: =E34*C39 -> 52753.751 | F39: =F34*C39 -> 87890.203 | G39: =G34*C39 -> 116424.58 | H39: =H34*C39 -> 128002.74
B40: Pains-céréales | C40: 0.1332 | D40: =D34*C40 -> 37591.571 | E40: =E34*C40 -> 152425.16 | F40: =F34*C40 -> 253947.4 | G40: =G34*C40 -> 336393.8 | H40: =H34*C40 -> 369847.38
B41: Viande-charcuterie | C41: 0.1468 | D41: =D34*C41 -> 41429.749 | E41: =E34*C41 -> 167988.08 | F41: =F34*C41 -> 279875.96 | G41: =G34*C41 -> 370740.32 | H41: =H34*C41 -> 407609.58
B42: Thés-cafés-tisanes | C42: 0.0195 | D42: =D34*C42 -> 5503.2705 | E42: =E34*C42 -> 22314.494 | F42: =F34*C42 -> 37176.984 | G42: =G34*C42 -> 49246.84 | H42: =H34*C42 -> 54144.324
B43: Huiles-vinaigres | C43: 0.0187 | D43: =D34*C43 -> 5277.4953 | E43: =E34*C43 -> 21399.027 | F43: =F34*C43 -> 35651.774 | G43: =G34*C43 -> 47226.457 | H43: =H34*C43 -> 51923.018
B44: Autres produits alimentaires | C44: 0.0534 | D44: =D34*C44 -> 15070.495 | E44: =E34*C44 -> 61107.382 | F44: =F34*C44 -> 101807.74 | G44: =G34*C44 -> 134860.58 | H44: =H34*C44 -> 148272.15
B45: Boissons alcoolisées | C45: 0.0678 | D45: =D34*C45 -> 19134.448 | E45: =E34*C45 -> 77585.777 | F45: =F34*C45 -> 129261.51 | G45: =G34*C45 -> 171227.48 | H45: =H34*C45 -> 188255.65
B46: Eaux-softs-jus | C46: 0.0572 | D46: =D34*C46 -> 16142.927 | E46: =E34*C46 -> 65455.848 | F46: =F34*C46 -> 109052.49 | G46: =G34*C46 -> 144457.4 | H46: =H34*C46 -> 158823.35
B47: Produits non alimentaires | C47: 0.1664 | D47: =D34*C47 -> 46961.242 | E47: =E34*C47 -> 190417.01 | F47: =F34*C47 -> 317243.6 | G47: =G34*C47 -> 420239.71 | H47: =H34*C47 -> 462031.56
B48: Total | C48: =SUM(C35:C47) -> 0.9999 | D48: =SUM(D35:D47) -> 282190.78 | E48: =SUM(E35:E47) -> 1144218.6 | F48: =SUM(F35:F47) -> 1906321.3 | G48: =SUM(G35:G47) -> 2525226.5 | H48: =SUM(H35:H47) -> 2776354.3
B49: Différence | C49: =1-C48 -> 0.0001 | D49: =D34-D48 -> 28.2219 | E49: =E34-E48 -> 114.4333 | F49: =F34-F48 -> 190.6512 | G49: =G34-G48 -> 252.5479 | H49: =H34-H48 -> 277.6632
B52: Prix de vente/produit
C53: 2016 | D53: 2017 | E53: 2018 | F53: 2019 | G53: 2020
B54: Légumes frais | C54: 2.23 | D54: 2.61 | E54: 2.98 | F54: 2.98 | G54: 2.98
B55: Fruits frais-secs-conserves | C55: 1.73 | D55: 2.02 | E55: 2.3 | F55: 2.3 | G55: 2.3
B56: Sucres-chocolats-confiseries | C56: 1.27 | D56: 1.48 | E56: 1.69 | F56: 1.69 | G56: 1.69
...

Sheet 7+8 F
A2: PARTIE FINANCIERE
B7: Objectif | C7: Variable d'action | D7: Indicateur
A8: 7 | B8: Optimiser la gestion des stocks | C8: Connaitre le taux de rotation des stocks | D8: Taux de rotation des stocks
A9: 8 | C9: Connaitre la durée moyenne de stockage | D9: Durée moyenne de stockage
A12: 7. Taux de rotation des stocks
A14: Formules
B16: Taux de rotation = CA/Valeur de vente du stock
B17: Avec Valeur de vente du stock = Valeur d'achat du stock * Marge brute moyenne
A19: Calculs - Prévisions
B21: Taux de rotation - Produits alimentaires
C22: 2016 | D22: 2017 | E22: 2018 | F22: 2019 | G22: 2020
B23: Chiffre d'affaires | C23: 220547 | D23: 810841 | E23: 1350899 | F23: 1789481 | G23: 1967440
B24: Valeur d'achat du stock | C24: 40000 | D24: 40000 | E24: 40000 | F24: 40000 | G24: 40000
B25: Marge brute moyenne | C25: 1.21 | D25: 1.21 | E25: 1.21 | F25: 1.21 | G25: 1.21
B26: Valeur de vente du stock | C26: =$C24*$C25 -> 48400 | D26: =D24*D25 -> 48400 | E26: =E24*E25 -> 48400 | F26: =F24*F25 -> 48400 | G26: =G24*G25 -> 48400
B27: Taux de rotation - Produits alimentaires | C27: =C23/C26 -> 4.5567562 | D27: =D23/D26 -> 16.752913 | E27: =E23/E26 -> 27.911136 | F27: =F23/F26 -> 36.972748 | G27: =G23/G26 -> 40.649587
B28: Rotation du stock tous les x mois | C28: =12/C27 -> 2.6334523 | D28: =12/D27 -> 0.71629333 | E28: =12/E27 -> 0.42993592 | F28: =12/F27 -> 0.32456338 | G28: =12/G27 -> 0.29520595
B32: Taux de rotation - Boissons
C33: 2016 | D33: 2017 | E33: 2018 | F33: 2019 | G33: 2020
B34: Chiffre d'affaires | C34: 26455 | D34: 143056 | E34: 238338 | F34: 315716 | G34: 347114
B35: Valeur d'achat du stock | C35: 5000 | D35: 5000 | E35: 5000 | F35: 5000 | G35: 5000
B36: Marge brute moyenne | C36: 1.2 | D36: 1.2 | E36: 1.2 | F36: 1.2 | G36: 1.2
B37: Valeur de vente du stock | C37: =$C35*$C36 -> 6000 | D37: =D35*D36 -> 6000 | E37: =E35*E36 -> 6000 | F37: =F35*F36 -> 6000 | G37: =G35*G36 -> 6000
B38: Taux de rotation - Boissons | C38: =C34/C37 -> 4.4091667 | D38: =D34/D37 -> 23.842667 | E38: =E34/E37 -> 39.723 | F38: =F34/F37 -> 52.619333 | G38: =G34/G37 -> 57.852333
B39: Rotation du stock tous les x mois | C39: =12/C38 -> 2.7216027 | D39: =12/D38 -> 0.50329941 | E39: =12/E38 -> 0.30209199 | F39: =12/F38 -> 0.22805306 | G39: =12/G38 -> 0.20742465
B42: Taux de rotation - Produits non alimentaires
C43: 2016 | D43: 2017 | E43: 2018 | F43: 2019 | G43: 2020
B44: Chiffre d'affaires | C44: 35217 | D44: 190436 | E44: 317275 | F44: 420282 | G44: 462078
B45: Valeur d'achat du stock | C45: 5000 | D45: 5000 | E45: 5000 | F45: 5000 | G45: 5000
B46: Marge brute moyenne | C46: 1.2 | D46: 1.2 | E46: 1.2 | F46: 1.2 | G46: 1.2
B47: Valeur de vente du stock | C47: =C45*C46 -> 6000 | D47: =D45*D46 -> 6000 | E47: =E45*E46 -> 6000 | F47: =F45*F46 -> 6000 | G47: =G45*G46 -> 6000
B48: Taux de rotation - Produits non alimentaires | C48: =C44/C47 -> 5.8695 | D48: =D44/D47 -> 31.739333 | E48: =E44/E47 -> 52.879167 | F48: =F44/F47 -> 70.047 | G48: =G44/G47 -> 77.013
B49: Rotation du stock tous les x mois | C49: =12/C48 -> 2.0444672 | D49: =12/D48 -> 0.37807977 | E49: =12/E48 -> 0.22693247 | F49: =12/F48 -> 0.17131355 | G49: =12/G48 -> 0.15581785
A68: Calculs - Réel
B70: Taux de rotation - Produits alimentaires
C71: 2016 | D71: 2017 | E71: 2018 | F71: 2019 | G71: 2020
B72: Chiffre d'affaires | C72: 220000 | D72: 810000 | E72: 1350000 | F72: 1789000 | G72: 1967000
B73: Valeur d'achat du stock | C73: 5000 | D73: 5000 | E73: 5000 | F73: 5000 | G73: 5000
B74: Marge brute moyenne | C74: 1 | D74: 1 | E74: 1 | F74: 1 | G74: 1
B75: Valeur de vente du stock | C75: =C$73*C$74 -> 5000 | D75: =D$73*D$74 -> 5000 | E75: =E$73*E$74 -> 5000 | F75: =F$73*F$74 -> 5000 | G75: =G$73*G$74 -> 5000
...

Sheet Méthode S
A2: PARTIE SOCIALE
B5: Récapitulatif :
B7: Objectif | C7: Variable d'action | D7: Indicateur
A8: 1 | B8: Rendre le supermarché accessible à un maximum de personnes | C8: Augmenter les plages horaires d'ouverture du magasin | D8: Heures d'ouverture additionnelles
A9: 2 | B9: Sensibiliser les personnes sur les problématiques liées à l'alimentation | C9: Organiser des ateliers de sensibilisation sur les habitudes alimentaires et leurs conséquences | D9: Nombre de (nouvelles) personnes présentes aux ateliers
A10: 3 | B10: Renforcer l'économie locale | C10: Créer des partenariats avec des producteurs belges | D10: Proportion du chiffre d'affaires provenant de la vente de produits de producteurs belges
A11: 4 | B11: Assurer la pérennité des relations avec les coopérateurs | C11: Vérifier que chaque coopérateur remplisse ses obligations | D11: Taux d'absentéisme aux permanences
C12: Mesurer la satisfaction des coopérateurs par rapport au projet
A13: 5 | D13: Turnover des membres
A14: 6 | B14: Assurer l'expansion du projet | C14: Augmenter le nombre d'adhérents (coopérateurs) au projet | D14: Taux de croissance des coopérateurs
A15: 7 | B15: Assurer l'adhésion des membres au modèle de gouvernance | C15: Mesurer la participation des membres aux décisions concernant les orientations de la coopérative | D15: Proportion des membres présents aux AG
B18: Méthode utilisée:
B20: Les cellules en fond orange clair devront contenir les valeurs réelles observées
A22: 1 | B22: Augmentation des heures d'ouverture | C22: Onglet "résumé" du plan financier
B24: Les valeurs trouvées pour le nombre de jours d'ouverture par semaine viennent de la rubrique du même nom
A26: 2 | B26: Ateliers de sensibilisation organisés | C26: /
A28: 3 | B28: CA provenant de produits belges | C28: /
A30: 4 | B30: Taux d'absentéisme aux permanences | C30: /
A32: 5 | B32: Turnover des coopérateurs | C32: Onglet "résumé" du plan financier
B34: Les valeurs trouvées pour le nombre total de coopérateurs viennent de la rubrique du même nom
A36: 6 | B36: Taux de croissance des coopérateurs | C36: Onglet "résumé" du plan financier
B38: Les valeurs trouvées pour le nombre total de coopérateurs viennent de la rubrique du même nom
A40: 7 | B40: Proportion des membres présents aux AG | C40: /

Sheet Vue d'ensemble S
A2: PARTIE SOCIALE
F8: =TODAY() -> 42563
D11: Tableau de bord - Partie sociale

Sheet 1 S
A2: PARTIE SOCIALE
B7: Objectif | C7: Variable d'action | D7: Indicateur
A8: 1 | B8: Rendre le supermarché accessible à un maximum de personnes | C8: Augmenter les plages horaires d'ouverture du magasin | D8: Heures d'ouverture additionnelles
A11: 1. Heures d'ouverture du magasin
A13: Formules - Hypothèses
B15: On considère que 1 jour d'ouverture = 12 heures d'ouverture (pour BEES coop)
B17: On considère que les plages horaires d'ouverture des concurrents sont les suivantes et qu'elles restent stables dans le temps:
B18: Lundi - Jeudi: 8h - 20h
B19: Vendredi: 8h - 21h
B20: Samedi: 8h - 20h
B21: Dimanche: fermé
B22: Ceci fait au total 73 heures d'ouverture par semaine
A24: Calculs - Prévisions
B26: Heures d'ouverture du magasin
C27: 2016 | D27: 2017 | E27: 2018 | F27: 2019 | G27: 2020
B28: Jours d'ouverture/semaine | C28: 4 | D28: 5 | E28: 6 | F28: 6 | G28: 6
B29: Heures d'ouverture/jour | C29: 12 | D29: 12 | E29: 12 | F29: 12 | G29: 12
B30: Heures d'ouverture par semaine (BEES) | C30: =C28*C29 -> 48 | D30: =D28*D29 -> 60 | E30: =E28*E29 -> 72 | F30: =F28*F29 -> 72 | G30: =G28*G29 -> 72
B33: Heures d'ouverture concurrent
C34: 2016 | D34: 2017 | E34: 2018 | F34: 2019 | G34: 2020
B35: Heures d'ouverture par semaine (concurrent) | C35: 73 | D35: 73 | E35: 73 | F35: 73 | G35: 73
A38: Calculs - Réel
B40: Heures d'ouverture du magasin
C41: 2016 | D41: 2017 | E41: 2018 | F41: 2019 | G41: 2020
B42: Jours d'ouverture/semaine | C42: 4 | D42: 4 | E42: 5 | F42: 5 | G42: 6
B43: Heures d'ouverture/jour | C43: 10 | D43: 10 | E43: 12 | F43: 12 | G43: 12
B44: Heures d'ouverture par semaine (BEES) | C44: =C$42*C$43 -> 40 | D44: =D$42*D$43 -> 40 | E44: =E$42*E$43 -> 60 | F44: =F$42*F$43 -> 60 | G44: =G$42*G$43 -> 72
B47: Heures d'ouverture concurrent
C48: 2016 | D48: 2017 | E48: 2018 | F48: 2019 | G48: 2020
B49: Heures d'ouverture par semaine (concurrent) | C49: 73 | D49: 73 | E49: 73 | F49: 73 | G49: 73
A52: Comparaison prévisions - réel
B54: Heures d'ouverture
C55: 2016 | D55: 2017 | E55: 2018 | F55: 2019 | G55: 2020
B56: Prévisions | C56: =C$30 -> 48 | D56: =D$30 -> 60 | E56: =E$30 -> 72 | F56: =F$30 -> 72 | G56: =G$30 -> 72
B57: Réel | C57: =C44 -> 40 | D57: =D44 -> 40 | E57: =E44 -> 60 | F57: =F44 -> 60 | G57: =G44 -> 72
B58: Concurrent | C58: =C$49 -> 73 | D58: =D$49 -> 73 | E58: =E$49 -> 73 | F58: =F$49 -> 73 | G58: =G$49 -> 73
B59: Différence BEES coop | C59: =C$57-C$56 -> -8 | D59: =D$57-D$56 -> -20 | E59: =E$57-E$56 -> -12 | F59: =F$57-F$56 -> -12 | G59: =G$57-G$56 -> 0
B60: Différence réel - concurrent | C60: =C$57-C$58 -> -33 | D60: =D$57-D$58 -> -33 | E60: =E$57-E$58 -> -13 | F60: =F$57-F$58 -> -13 | G60: =G$57-G$58 -> -1

Sheet 2+3 S
A2: PARTIE SOCIALE
B7: Objectif | C7: Variable d'action | D7: Indicateur
A8: 2 | B8: Sensibiliser les personnes sur les problématiques liées à l'alimentation | C8: Organiser des ateliers de sensibilisation sur les habitudes alimentaires et leurs conséquences | D8: Nombre de (nouvelles) personnes présentes aux ateliers
A9: 3 | B9: Renforcer l'économie locale | C9: Créer des partenariats avec des producteurs belges | D9: Proportion du chiffre d'affaires provenant de la vente de produits de producteurs belges
A12: 2. Personnes présentes aux ateliers de sensibilisation
A14: Formules
B16: Proportion de nouvelles personnes présentes aux ateliers = Nombre de nouvelles personnes présentes aux atelier/Nombre total de participants
A18: Calculs
B20: Personnes présentes aux ateliers (2016)
C21: Atelier 1 | D21: Atelier 2 | E21: Atelier 3 | F21: Atelier 4 | G21: Atelier 5 | H21: Moyenne 2016
B22: Nombre de nouvelles personnes présentes aux ateliers | C22: 20
B23: Nombre total de participants aux ateliers | C23: 20
B24: Proportion de nouvelles personnes aux ateliers | C24: =C$22/C$23 -> 1 | H24: =C24/1 -> 1
B27: Personnes présentes aux ateliers (2017)
C28: Atelier 1 | D28: Atelier 2 | E28: Atelier 3 | F28: Atelier 4 | G28: Atelier 5 | H28: Moyenne 2017
B29: Nombre de nouvelles personnes présentes aux ateliers | C29: 20 | D29: 2
B30: Nombre total de participants aux ateliers | C30: 32 | D30: 20
B31: Proportion de nouvelles personnes aux ateliers | C31: =C$29/C$30 -> 0.625 | D31: =D$29/D$30 -> 0.1 | H31: =(SUM(C31:D31))/2 -> 0.3625
B34: Personnes présentes aux ateliers (2018)
C35: Atelier 1 | D35: Atelier 2 | E35: Atelier 3 | F35: Atelier 4 | G35: Atelier 5 | H35: Moyenne 2018
B36: Nombre de nouvelles personnes présentes aux ateliers | C36: 1 | D36: 2 | E36: 5
B37: Nombre total de participants aux ateliers | C37: 20 | D37: 13 | E37: 16
B38: Proportion de nouvelles personnes aux ateliers | C38: =C$36/C$37 -> 0.05 | D38: =D$36/D$37 -> 0.15384615 | E38: =E$36/E$37 -> 0.3125 | H38: =(SUM(C38:E38))/3 -> 0.17211538
B41: Personnes présentes aux ateliers (2019)
C42: Atelier 1 | D42: Atelier 2 | E42: Atelier 3 | F42: Atelier 4 | G42: Atelier 5 | H42: Moyenne 2019
B43: Nombre de nouvelles personnes présentes aux ateliers | C43: 0 | D43: 5 | E43: 2 | F43: 1
B44: Nombre total de participants aux ateliers | C44: 20 | D44: 13 | E44: 16 | F44: 12
B45: Proportion de nouvelles personnes aux ateliers | C45: =C$43/C$44 -> 0 | D45: =D$43/D$44 -> 0.38461538 | E45: =E$43/E$44 -> 0.125 | F45: =F$43/F$44 -> 0.083333333 | H45: =(SUM(C45:F45))/4 -> 0.14823718
B48: Personnes présentes aux ateliers (2020)
C49: Atelier 1 | D49: Atelier 2 | E49: Atelier 3 | F49: Atelier 4 | G49: Atelier 5 | H49: Moyenne 2020
B50: Nombre de nouvelles personnes présentes aux ateliers | C50: 20 | D50: 2 | E50: 5 | F50: 6 | G50: 1
B51: Nombre total de participants aux ateliers | C51: 20 | D51: 13 | E51: 16 | F51: 12 | G51: 23
B52: Proportion de nouvelles personnes aux ateliers | C52: =C$50/C$51 -> 1 | D52: =D$50/D$51 -> 0.15384615 | E52: =E$50/E$51 -> 0.3125 | F52: =F$50/F$51 -> 0.5 | G52: =G$50/G$51 -> 0.043478261 | H52: =(SUM(C52:G52))/5 -> 0.40196488
B55: Personnes présentes aux ateliers/an
C56: 2016 | D56: 2017 | E56: 2018 | F56: 2019 | G56: 2020
B57: Nombre total de participants aux ateliers | C57: =SUM(C23:G23) -> 20 | D57: =SUM(C30:G30) -> 52 | E57: =SUM(C37:G37) -> 49 | F57: =SUM(C44:G44) -> 61 | G57: =SUM(C51:G51) -> 84
B58: Proportion de nouvelles personnes aux ateliers | C58: =H24 -> 1 | D58: =H31 -> 0.3625 | E58: =H38 -> 0.17211538 | F58: =H45 -> 0.14823718 | G58: =H52 -> 0.40196488
A75: 3. CA de produits belges
A77: Formules
B79: Proportion du CA provenant du produits belges = CA provenant de la vente de produits belges/CA total
...

Sheet 4+5 S
A2: PARTIE SOCIALE
B7: Objectif | C7: Variable d'action | D7: Indicateur
A8: 4 | B8: Assurer la pérennité des relations avec les coopérateurs | C8: Vérifier que chaque coopérateur remplisse ses obligations | D8: Taux d'absentéisme aux permanences
C9: Mesurer la satisfaction des coopérateurs par rapport au projet
A10: 5 | D10: Turnover des membres
A13: 4. Taux d'absentéisme aux permanences
A15: Formules
B17: Taux d'absentéisme = Total des heures d'absence/Nombre total d'heures normalement prestées
B19: Pour le nombre total d'heures de travail, nous avons considéré que chaque coopérateurs travaille 3h/semaine et que le nombre de coopérateurs évolue en fonction des prévisions faites dans le plan financier
A21: Calculs
B23: Taux d'absentéisme (2016)
C24: Janvier | D24: Février | E24: Mars | F24: Avril | G24: Mai | H24: Juin | I24: Juillet | J24: Août | K24: Septembre | L24: Octobre | M24: Novembre | N24: Décembre | O24: TOTAL
B25: Nombre d'heures d'absence | C25: 15 | D25: 13 | E25: 2 | F25: 5 | G25: 7 | H25: 10 | I25: 15 | J25: 20 | K25: 5 | L25: 7 | M25: 4 | N25: 12 | O25: =SUM(C25:N25) -> 115
B26: Nombre total d'heures de travail bénévole | C26: 1500 | D26: 1500 | E26: 1500 | F26: 1500 | G26: 1500 | H26: 1500 | I26: 1500 | J26: 1500 | K26: 1500 | L26: 1500 | M26: 1500 | N26: 1500 | O26: =SUM(C26:N26) -> 18000
B27: Taux d'absentéisme | C27: =C$25/C$26 -> 0.01 | D27: =D$25/D$26 -> 0.0086666667 | E27: =E$25/E$26 -> 0.0013333333 | F27: =F$25/F$26 -> 0.0033333333 | G27: =G$25/G$26 -> 0.0046666667 | H27: =H$25/H$26 -> 0.0066666667 | I27: =I$25/I$26 -> 0.01 | J27: =J$25/J$26 -> 0.013333333 | ... N27: =N$25/N$26 -> 0.008 | O27: =O25/O26 -> 0.0063888889
B30: Taux d'absentéisme (2017)
C31: Janvier | D31: Février | E31: Mars | F31: Avril | G31: Mai | H31: Juin | I31: Juillet | J31: Août | K31: Septembre | L31: Octobre | M31: Novembre | N31: Décembre | O31: TOTAL
B32: Nombre d'heures d'absence | C32: 15 | D32: 13 | E32: 2 | F32: 5 | G32: 7 | H32: 10 | I32: 15 | J32: 20 | K32: 5 | L32: 7 | M32: 4 | N32: 12 | O32: =SUM(C32:N32) -> 115
B33: Nombre total d'heures de travail bénévole | C33: 2820 | D33: 2820 | E33: 2820 | F33: 2820 | G33: 2820 | H33: 2820 | I33: 2820 | J33: 2820 | K33: 2820 | L33: 2820 | M33: 2820 | N33: 2820 | O33: =SUM(C33:N33) -> 33840
B34: Taux d'absentéisme | C34: =C$32/C$33 -> 0.0053191489 | D34: =D$32/D$33 -> 0.0046099291 | E34: =E$32/E$33 -> 0.00070921986 | F34: =F$32/F$33 -> 0.0017730496 | G34: =G$32/G$33 -> 0.0024822695 | H34: =H$32/H$33 -> 0.0035460993 | I34: =I$32/I$33 -> 0.0053191489 | J34: =J$32/J$33 -> 0.0070921986 | ... N34: =N$32/N$33 -> 0.0042553191 | O34: =O32/O33 -> 0.0033983452
B37: Taux d'absentéisme (2018)
C38: Janvier | D38: Février | E38: Mars | F38: Avril | G38: Mai | H38: Juin | I38: Juillet | J38: Août | K38: Septembre | L38: Octobre | M38: Novembre | N38: Décembre | O38: TOTAL
B39: Nombre d'heures d'absence | C39: 15 | D39: 13 | E39: 2 | F39: 5 | G39: 7 | H39: 10 | I39: 15 | J39: 20 | K39: 5 | L39: 7 | M39: 4 | N39: 12 | O39: =SUM(C39:N39) -> 115
B40: Nombre total d'heures de travail bénévole | C40: 3780 | D40: 3780 | E40: 3780 | F40: 3780 | G40: 3780 | H40: 3780 | I40: 3780 | J40: 3780 | K40: 3780 | L40: 3780 | M40: 3780 | N40: 3780 | O40: =SUM(C40:N40) -> 45360
B41: Taux d'absentéisme | C41: =C$39/C$40 -> 0.003968254 | D41: =D$39/D$40 -> 0.0034391534 | E41: =E$39/E$40 -> 0.00052910053 | F41: =F$39/F$40 -> 0.0013227513 | G41: =G$39/G$40 -> 0.0018518519 | H41: =H$39/H$40 -> 0.0026455026 | I41: =I$39/I$40 -> 0.003968254 | J41: =J$39/J$40 -> 0.0052910053 | ... O41: =O$39/O$40 -> 0.0025352734
B44: Taux d'absentéisme (2019)
C45: Janvier | D45: Février | E45: Mars | F45: Avril | G45: Mai | H45: Juin | I45: Juillet | J45: Août | K45: Septembre | L45: Octobre | M45: Novembre | N45: Décembre | O45: TOTAL
B46: Nombre d'heures d'absence | C46: 15 | D46: 13 | E46: 2 | F46: 5 | G46: 7 | H46: 10 | I46: 15 | J46: 20 | K46: 5 | L46: 7 | M46: 4 | N46: 12 | O46: =SUM(C46:N46) -> 115
B47: Nombre total d'heures de travail bénévole | C47: 4275 | D47: 4275 | E47: 4275 | F47: 4275 | G47: 4275 | H47: 4275 | I47: 4275 | J47: 4275 | K47: 4275 | L47: 4275 | M47: 4275 | N47: 4275 | O47: =SUM(C47:N47) -> 51300
B48: Taux d'absentéisme | C48: =C$46/C$47 -> 0.0035087719 | D48: =D$46/D$47 -> 0.0030409357 | E48: =E$46/E$47 -> 0.00046783626 | F48: =F$46/F$47 -> 0.0011695906 | G48: =G$46/G$47 -> 0.0016374269 | H48: =H$46/H$47 -> 0.0023391813 | I48: =I$46/I$47 -> 0.0035087719 | J48: =J$46/J$47 -> 0.0046783626 | ... O48: =O$46/O$47 -> 0.0022417154
B51: Taux d'absentéisme (2020)
C52: Janvier | D52: Février | E52: Mars | F52: Avril | G52: Mai | H52: Juin | I52: Juillet | J52: Août | K52: Septembre | L52: Octobre | M52: Novembre | N52: Décembre | O52: TOTAL
B53: Nombre d'heures d'absence | C53: 15 | D53: 13 | E53: 2 | F53: 5 | G53: 7 | H53: 10 | I53: 15 | J53: 20 | K53: 5 | L53: 7 | M53: 4 | N53: 12 | O53: =SUM(C53:N53) -> 115
B54: Nombre total d'heures de travail bénévole | C54: 4500 | D54: 4500 | E54: 4500 | F54: 4500 | G54: 4500 | H54: 4500 | I54: 4500 | J54: 4500 | K54: 4500 | L54: 4500 | M54: 4500 | N54: 4500 | O54: =SUM(C54:N54) -> 54000
B55: Taux d'absentéisme | C55: =C$53/C$54 -> 0.0033333333 | D55: =D$53/D$54 -> 0.0028888889 | E55: =E$53/E$54 -> 0.00044444444 | F55: =F$53/F$54 -> 0.0011111111 | G55: =G$53/G$54 -> 0.0015555556 | H55: =H$53/H$54 -> 0.0022222222 | I55: =I$53/I$54 -> 0.0033333333 | J55: =J$53/J$54 -> 0.0044444444 | ... O55: =O$53/O$54 -> 0.0021296296
B58: Taux d'absentéisme/an
C59: 2016 | D59: 2017 | E59: 2018 | F59: 2019 | G59: 2020
B60: Taux d'absentéisme | C60: =O27 -> 0.0063888889 | D60: =O34 -> 0.0033983452 | E60: =O41 -> 0.0025352734 | F60: =O48 -> 0.0022417154 | G60: =O55 -> 0.0021296296
A78: 5. Turnover des membres
A80: Formules
...

Sheet 6+7 S
A2: PARTIE SOCIALE
B7: Objectif | C7: Variable d'action | D7: Indicateur
A8: 6 | B8: Assurer l'expansion du projet | C8: Augmenter le nombre d'adhérents (coopérateurs) au projet | D8: Taux de croissance des coopérateurs
A9: 7 | B9: Assurer l'adhésion des membres au modèle de gouvernance | C9: Mesurer la participation des membres aux décisions concernant les orientations de la coopérative | D9: Proportion des membres présents aux AG
A12: 6. Taux de croissance des coopérateurs
A14: Formules
B16: Taux de croissance = (Nombre de coopérateurs en N - Nombre de coopérateurs en N-1)/Nombre de coopérateurs en N
A18: Calculs - Prévisions
B20: Taux de croissance
C21: 2016 | D21: 2017 | E21: 2018 | F21: 2019 | G21: 2020
B22: Nombre de coopérateurs | C22: 500 | D22: 940 | E22: 1260 | F22: 1425 | G22: 1500
B23: Taux de croissance | C23: =(C22-0)/C22 -> 1 | D23: =(D22-C22)/D22 -> 0.46808511 | E23: =(E22-D22)/E22 -> 0.25396825 | F23: =(F22-E22)/F22 -> 0.11578947 | G23: =(G22-F22)/G22 -> 0.05
A42: Calculs - Réel
B44: Taux de croissance
C45: 2016 | D45: 2017 | E45: 2018 | F45: 2019 | G45: 2020
B46: Nombre de coopérateurs | C46: 600 | D46: 1000 | E46: 1500 | F46: 1600 | G46: 1750
B47: Taux de croissance | C47: =(C46-0)/C46 -> 1 | D47: =(D46-C46)/D46 -> 0.4 | E47: =(E46-D46)/E46 -> 0.33333333 | F47: =(F46-E46)/F46 -> 0.0625 | G47: =(G46-F46)/G46 -> 0.085714286
A66: Comparaison prévisions - réel
B68: Nombre de coopérateurs
C69: 2016 | D69: 2017 | E69: 2018 | F69: 2019 | G69: 2020
B70: Prévisions | C70: =C$22 -> 500 | D70: =D$22 -> 940 | E70: =E$22 -> 1260 | F70: =F$22 -> 1425 | G70: =G$22 -> 1500
B71: Réel | C71: =C$46 -> 600 | D71: =D$46 -> 1000 | E71: =E$46 -> 1500 | F71: =F$46 -> 1600 | G71: =G$46 -> 1750
B72: Différence | C72: =C$71-C$70 -> 100 | D72: =D$71-D$70 -> 60 | E72: =E$71-E$70 -> 240 | F72: =F$71-F$70 -> 175 | G72: =G$71-G$70 -> 250
B75: Taux de croissance
C76: 2016 | D76: 2017 | E76: 2018 | F76: 2019 | G76: 2020
B77: Prévisions | C77: =C$23 -> 1 | D77: =D$23 -> 0.46808511 | E77: =E$23 -> 0.25396825 | F77: =F$23 -> 0.11578947 | G77: =G$23 -> 0.05
B78: Réel | C78: =C$47 -> 1 | D78: =D$47 -> 0.4 | E78: =E$47 -> 0.33333333 | F78: =F$47 -> 0.0625 | G78: =G$47 -> 0.085714286
B79: Différence | C79: =C$78-C$77 -> 0 | D79: =D$78-D$77 -> -0.068085106 | E79: =E$78-E$77 -> 0.079365079 | F79: =F$78-F$77 -> -0.053289474 | G79: =G$78-G$77 -> 0.035714286
A98: 7. Proportion des membres présents aux AG
A100: Formules
B102: Proportion des membres présents aux AG = Nombre de membres présents aux AG/Nombre total de membres
A104: Calculs
B106: Membres présents aux AG (2016)
C107: AG ordin. 1 | D107: AG ordin. 2 | E107: AG ordin. 3 | F107: AG extra. 1 | G107: Moyenne 2016
B108: Nombre de membres présents aux AG | C108: 450 | D108: 500 | E108: 300 | F108: 200
B109: Nombre total de membres | C109: 700 | D109: 700 | E109: 700 | F109: 700
B110: Proportion des membres présents aux AG | C110: =C$108/C$109 -> 0.64285714 | D110: =D$108/D$109 -> 0.71428571 | E110: =E$108/E$109 -> 0.42857143 | F110: =F$108/F$109 -> 0.28571429 | G110: =(SUM(C110:F110))/4 -> 0.51785714
B113: Membres présents aux AG (2017)
C114: AG ordin. 1 | D114: AG ordin. 2 | E114: AG ordin. 3 | F114: AG extra. 1 | G114: Moyenne 2017
B115: Nombre de membres présents aux AG | C115: 850 | D115: 950 | E115: 600 | F115: 400
...

Sheet Méthode E
A2: PARTIE ENVIRONNEMENTALE
B5: Récapitulatif :
B7: Objectif | C7: Variable d'action | D7: Indicateur
A8: 1 | B8: Promouvoir une alimentation et des produits durables | C8: Donner la priorité aux produits biologiques | D8: Quantité de produits bio vendus/ Quantité totale de produits alimentaires vendus
A9: 2 | C9: Donner la priorité aux produits locaux | D9: Quantité de produits locaux vendus/ Quantité totale de produits vendus
A10: 3 | C10: Donner la priorité aux produits locaux provenant de l'agriculture biologique | D10: Quantité de produits locaux et bio vendus/ Quantité totale de produits alimentaires vendus
A11: 4 | C11: Donner la priorité aux produits fair trade | D11: Quantité de produits fair trade vendus/ Quantité totale de produits alimentaires vendus
A12: 5 | C12: Donner la priorité aux produits écologiques | D12: Quantité de produits écologiques vendus/ Quantité totale de produits non alimentaires vendus
A13: 6 | C13: Promouvoir la vente en vrac | D13: Quantité de produits vendus en vrac/ Quantité totale de produits alimentaires vendus
A14: 7 | B14: Avoir une démarche respectueuse de l'environnement | C14: Garder stable ou diminuer la consommation d'électricité | D14: Consommation d'électricité
A15: 8 | C15: Garder stable ou diminuer la consommation d'eau | D15: Consommation d'eau
A16: 9 | C16: Se fournir un maximum en énergie provenant de ressources renouvelables | D16: Consommation énergétique provenant de ressources renouvelables/ Consommation énergétique totale
A17: 10 | C17: Trier un maximum les déchets | D17: Quantité de sacs poubelle non triés/ Quantité totale de sacs poubelle
B20: Méthode utilisée: | C20: /
B22: Les cellules en fond orange clair devront contenir les valeurs réelles observées

Sheet Vue d'ensemble E
A2: PARTIE ENVIRONNEMENTALE
F8: =TODAY() -> 42563
D11: Tableau de bord - Partie environnementale

Sheet 1+2+3 E
A2: PARTIE ENVIRONNEMENTALE
B7: Objectif | C7: Variable d'action | D7: Indicateur
A8: 1 | B8: Promouvoir une alimentation et des produits durables | C8: Donner la priorité aux produits biologiques | D8: Quantité de produits bio vendus/ Quantité totale de produits alimentaires vendus
A9: 2 | C9: Donner la priorité aux produits locaux | D9: Quantité de produits locaux vendus/ Quantité totale de produits vendus
A10: 3 | C10: Donner la priorité aux produits locaux provenant de l'agriculture biologique | D10: Quantité de produits locaux et bio vendus/ Quantité totale de produits alimentaires vendus
A13: 1. Quantité de produits bio vendus
A15: Formules
B17: Proportion de produits bio vendus = Quantité de produits bio vendus/Quantité totale de produits alimentaires vendus
A19: Calculs
B21: Produits bio (2016)
C22: Janvier | D22: Février | E22: Mars | F22: Avril | G22: Mai | H22: Juin | I22: Juillet | J22: Août | K22: Septembre | L22: Octobre | M22: Novembre | N22: Décembre | O22: TOTAL
B23: Quantité de produits bio vendus | C23: 3000 | D23: 3000 | E23: 3000 | F23: 3000 | G23: 3000 | H23: 3000 | I23: 3000 | J23: 3000 | K23: 3000 | L23: 3000 | M23: 3000 | N23: 3000 | O23: =SUM(C23:N23) -> 36000
B24: Quantité totale de produits alimentaires vendus | C24: 8684 | D24: 8684 | E24: 8684 | F24: 8684 | G24: 8684 | H24: 8684 | I24: 8684 | J24: 8684 | K24: 8684 | L24: 8684 | M24: 8684 | N24: 8684 | O24: =SUM(C24:N24) -> 104208
B25: Proportion de produits bio vendus | C25: =C$23/C$24 -> 0.34546292 | D25: =D$23/D$24 -> 0.34546292 | E25: =E$23/E$24 -> 0.34546292 | F25: =F$23/F$24 -> 0.34546292 | G25: =G$23/G$24 -> 0.34546292 | H25: =H$23/H$24 -> 0.34546292 | I25: =I$23/I$24 -> 0.34546292 | J25: =J$23/J$24 -> 0.34546292 | ... N25: =N$23/N$24 -> 0.34546292 | O25: =O23/O24 -> 0.34546292
B28: Produits bio (2017)
C29: Janvier | D29: Février | E29: Mars | F29: Avril | G29: Mai | H29: Juin | I29: Juillet | J29: Août | K29: Septembre | L29: Octobre | M29: Novembre | N29: Décembre | O29: TOTAL
B30: Quantité de produits bio vendus | C30: 12000 | D30: 12000 | E30: 12000 | F30: 12000 | G30: 12000 | H30: 12000 | I30: 12000 | J30: 12000 | K30: 12000 | L30: 12000 | M30: 12000 | N30: 12000 | O30: =SUM(C30:N30) -> 144000
B31: Quantité totale de produits alimentaires vendus | C31: 30208 | D31: 30208 | E31: 30208 | F31: 30208 | G31: 30208 | H31: 30208 | I31: 30208 | J31: 30208 | K31: 30208 | L31: 30208 | M31: 30208 | N31: 30208 | O31: =SUM(C31:N31) -> 362496
B32: Proportion de produits bio vendus | C32: =C$30/C$31 -> 0.39724576 | D32: =D30/D31 -> 0.39724576 | E32: =E$30/E$31 -> 0.39724576 | F32: =F$30/F$31 -> 0.39724576 | G32: =G$30/G$31 -> 0.39724576 | H32: =H$30/H$31 -> 0.39724576 | I32: =I$30/I$31 -> 0.39724576 | J32: =J$30/J$31 -> 0.39724576 | K32: =K$30/K$31 -> 0.39724576 | L32: =L$30/L$31 -> 0.39724576 | ... O32: =O$30/O$31 -> 0.39724576
B35: Produits bio (2018)
C36: Janvier | D36: Février | E36: Mars | F36: Avril | G36: Mai | H36: Juin | I36: Juillet | J36: Août | K36: Septembre | L36: Octobre | M36: Novembre | N36: Décembre | O36: TOTAL
B37: Quantité de produits bio vendus | C37: 20000 | D37: 20000 | E37: 20000 | F37: 20000 | G37: 20000 | H37: 20000 | I37: 20000 | J37: 20000 | K37: 20000 | L37: 20000 | M37: 20000 | N37: 20000 | O37: =SUM(C37:N37) -> 240000
B38: Quantité totale de produits alimentaires vendus | C38: 44120 | D38: 44120 | E38: 44120 | F38: 44120 | G38: 44120 | H38: 44120 | I38: 44120 | J38: 44120 | K38: 44120 | L38: 44120 | M38: 44120 | N38: 44120 | O38: =SUM(C38:N38) -> 529440
B39: Proportion de produits bio vendus | C39: =C$37/C$38 -> 0.45330916 | D39: =D$37/D$38 -> 0.45330916 | E39: =E$37/E$38 -> 0.45330916 | F39: =F$37/F$38 -> 0.45330916 | G39: =G$37/G$38 -> 0.45330916 | H39: =H$37/H$38 -> 0.45330916 | I39: =I$37/I$38 -> 0.45330916 | J39: =J$37/J$38 -> 0.45330916 | ... O39: =O$37/O$38 -> 0.45330916
B42: Produits bio (2019)
C43: Janvier | D43: Février | E43: Mars | F43: Avril | G43: Mai | H43: Juin | I43: Juillet | J43: Août | K43: Septembre | L43: Octobre | M43: Novembre | N43: Décembre | O43: TOTAL
B44: Quantité de produits bio vendus | C44: 47000 | D44: 47000 | E44: 47000 | F44: 47000 | G44: 47000 | H44: 47000 | I44: 47000 | J44: 47000 | K44: 47000 | L44: 47000 | M44: 47000 | N44: 47000 | O44: =SUM(C44:N44) -> 564000
B45: Quantité totale de produits alimentaires vendus | C45: 58500 | D45: 58500 | E45: 58500 | F45: 58500 | G45: 58500 | H45: 58500 | I45: 58500 | J45: 58500 | K45: 58500 | L45: 58500 | M45: 58500 | N45: 58500 | O45: =SUM(C45:N45) -> 702000
B46: Proportion de produits bio vendus | C46: =C$44/C$45 -> 0.8034188 | D46: =D$44/D$45 -> 0.8034188 | E46: =E$44/E$45 -> 0.8034188 | F46: =F$44/F$45 -> 0.8034188 | G46: =G$44/G$45 -> 0.8034188 | H46: =H$44/H$45 -> 0.8034188 | I46: =I$44/I$45 -> 0.8034188 | J46: =J$44/J$45 -> 0.8034188 | ... O46: =O$44/O$45 -> 0.8034188
B49: Produits bio (2020)
C50: Janvier | D50: Février | E50: Mars | F50: Avril | G50: Mai | H50: Juin | I50: Juillet | J50: Août | K50: Septembre | L50: Octobre | M50: Novembre | N50: Décembre | O50: TOTAL
B51: Quantité de produits bio vendus | C51: 51000 | D51: 51000 | E51: 51000 | F51: 51000 | G51: 51000 | H51: 51000 | I51: 51000 | J51: 51000 | K51: 51000 | L51: 51000 | M51: 51000 | N51: 51000 | O51: =SUM(C51:N51) -> 612000
B52: Quantité totale de produits alimentaires vendus | C52: 64300 | D52: 64300 | E52: 64300 | F52: 64300 | G52: 64300 | H52: 64300 | I52: 64300 | J52: 64300 | K52: 64300 | L52: 64300 | M52: 64300 | N52: 64300 | O52: =SUM(C52:N52) -> 771600
B53: Proportion de produits bio vendus | C53: =C$51/C$52 -> 0.79315708 | D53: =D$51/D$52 -> 0.79315708 | E53: =E$51/E$52 -> 0.79315708 | F53: =F$51/F$52 -> 0.79315708 | G53: =G$51/G$52 -> 0.79315708 | H53: =H$51/H$52 -> 0.79315708 | I53: =I$51/I$52 -> 0.79315708 | J53: =J$51/J$52 -> 0.79315708 | ... O53: =O$51/O$52 -> 0.79315708
B56: Produits bio/an
C57: 2016 | D57: 2017 | E57: 2018 | F57: 2019 | G57: 2020
B58: Quantité de produits bio vendus | C58: =O23 -> 36000 | D58: =O30 -> 144000 | E58: =O37 -> 240000 | F58: =O44 -> 564000 | G58: =O51 -> 612000
B59: Quantité totale de produits alimentaires vendus | C59: =O24 -> 104208 | D59: =O31 -> 362496 | E59: =O38 -> 529440 | F59: =O45 -> 702000 | G59: =O52 -> 771600
B60: Proportion de produits bio vendus | C60: =O25 -> 0.34546292 | D60: =O32 -> 0.39724576 | E60: =O39 -> 0.45330916 | F60: =O46 -> 0.8034188 | G60: =O53 -> 0.79315708
A77: 2. Quantité de produits locaux vendus
...

Sheet 4+5+6 E
A2: PARTIE ENVIRONNEMENTALE
B7: Objectif | C7: Variable d'action | D7: Indicateur
A8: 4 | B8: Promouvoir une alimentation et des produits durables | C8: Donner la priorité aux produits fair trade | D8: Quantité de produits fair trade vendus/ Quantité totale de produits alimentaires vendus
A9: 5 | C9: Donner la priorité aux produits écologiques | D9: Quantité de produits écologiques vendus/ Quantité totale de produits non alimentaires vendus
A10: 6 | C10: Promouvoir la vente en vrac | D10: Quantité de produits vendus en vrac/ Quantité totale de produits alimentaires vendus
A13: 4. Quantité de produits fair trade vendus
A15: Formules
B17: Proportion de produits fair trade vendus = Quantité de produits fair trade vendus/Quantité totale de produits alimentaires vendus
A19: Calculs
B21: Produits fair trade (2016)
C22: Janvier | D22: Février | E22: Mars | F22: Avril | G22: Mai | H22: Juin | I22: Juillet | J22: Août | K22: Septembre | L22: Octobre | M22: Novembre | N22: Décembre | O22: TOTAL
B23: Quantité de produits fair trade vendus | C23: 2000 | D23: 2000 | E23: 2000 | F23: 2000 | G23: 2000 | H23: 2000 | I23: 2000 | J23: 2000 | K23: 2000 | L23: 2000 | M23: 2000 | N23: 2000 | O23: =SUM(C23:N23) -> 24000
B24: Quantité totale de produits alimentaires vendus | C24: ='1+2+3 E'!C$24 -> 8684 | D24: ='1+2+3 E'!D$24 -> 8684 | E24: ='1+2+3 E'!E$24 -> 8684 | F24: ='1+2+3 E'!F$24 -> 8684 | G24: ='1+2+3 E'!G$24 -> 8684 | H24: ='1+2+3 E'!H$24 -> 8684 | I24: ='1+2+3 E'!I$24 -> 8684 | J24: ='1+2+3 E'!J$24 -> 8684 | ... N24: ='1+2+3 E'!N$24 -> 8684 | O24: =SUM(C24:N24) -> 104208
B25: Proportion de produits fair trade vendus | C25: =C$23/C$24 -> 0.23030861 | D25: =D$23/D$24 -> 0.23030861 | E25: =E$23/E$24 -> 0.23030861 | F25: =F$23/F$24 -> 0.23030861 | G25: =G$23/G$24 -> 0.23030861 | H25: =H$23/H$24 -> 0.23030861 | I25: =I$23/I$24 -> 0.23030861 | J25: =J$23/J$24 -> 0.23030861 | ... O25: =O$23/O$24 -> 0.23030861
B28: Produits fair trade (2017)
C29: Janvier | D29: Février | E29: Mars | F29: Avril | G29: Mai | H29: Juin | I29: Juillet | J29: Août | K29: Septembre | L29: Octobre | M29: Novembre | N29: Décembre | O29: TOTAL
B30: Quantité de produits fair trade vendus | C30: 2500 | D30: 2500 | E30: 2500 | F30: 2500 | G30: 2500 | H30: 2500 | I30: 2500 | J30: 2500 | K30: 2500 | L30: 2500 | M30: 2500 | N30: 2500 | O30: =SUM(C30:N30) -> 30000
B31: Quantité totale de produits alimentaires vendus | C31: ='1+2+3 E'!C$31 -> 30208 | D31: ='1+2+3 E'!D$31 -> 30208 | E31: ='1+2+3 E'!E$31 -> 30208 | F31: ='1+2+3 E'!F$31 -> 30208 | G31: ='1+2+3 E'!G$31 -> 30208 | H31: ='1+2+3 E'!H$31 -> 30208 | I31: ='1+2+3 E'!I$31 -> 30208 | J31: ='1+2+3 E'!J$31 -> 30208 | ... N31: ='1+2+3 E'!N$31 -> 30208 | O31: =SUM(C31:N31) -> 362496
B32: Proportion de produits fair trade vendus | C32: =C$30/C$31 -> 0.082759534 | D32: =D$30/D$31 -> 0.082759534 | E32: =E$30/E$31 -> 0.082759534 | F32: =F$30/F$31 -> 0.082759534 | G32: =G$30/G$31 -> 0.082759534 | H32: =H$30/H$31 -> 0.082759534 | I32: =I$30/I$31 -> 0.082759534 | J32: =J$30/J$31 -> 0.082759534 | ... O32: =O$30/O$31 -> 0.082759534
B35: Produits fair trade (2018)
C36: Janvier | D36: Février | E36: Mars | F36: Avril | G36: Mai | H36: Juin | I36: Juillet | J36: Août | K36: Septembre | L36: Octobre | M36: Novembre | N36: Décembre | O36: TOTAL
B37: Quantité de produits fair trade vendus | C37: 4000 | D37: 4000 | E37: 4000 | F37: 4000 | G37: 4000 | H37: 4000 | I37: 4000 | J37: 4000 | K37: 4000 | L37: 4000 | M37: 4000 | N37: 4000 | O37: =SUM(C37:N37) -> 48000
B38: Quantité totale de produits alimentaires vendus | C38: ='1+2+3 E'!C$38 -> 44120 | D38: ='1+2+3 E'!D$38 -> 44120 | E38: ='1+2+3 E'!E$38 -> 44120 | F38: ='1+2+3 E'!F$38 -> 44120 | G38: ='1+2+3 E'!G$38 -> 44120 | H38: ='1+2+3 E'!H$38 -> 44120 | I38: ='1+2+3 E'!I$38 -> 44120 | J38: ='1+2+3 E'!J$38 -> 44120 | ... N38: ='1+2+3 E'!N$38 -> 44120 | O38: =SUM(C38:N38) -> 529440
B39: Proportion de produits fair trade vendus | C39: =C$37/C$38 -> 0.090661831 | D39: =D$37/D$38 -> 0.090661831 | E39: =E$37/E$38 -> 0.090661831 | F39: =F$37/F$38 -> 0.090661831 | G39: =G$37/G$38 -> 0.090661831 | H39: =H$37/H$38 -> 0.090661831 | I39: =I$37/I$38 -> 0.090661831 | J39: =J$37/J$38 -> 0.090661831 | ... O39: =O$37/O$38 -> 0.090661831
B42: Produits fair trade (2019)
C43: Janvier | D43: Février | E43: Mars | F43: Avril | G43: Mai | H43: Juin | I43: Juillet | J43: Août | K43: Septembre | L43: Octobre | M43: Novembre | N43: Décembre | O43: TOTAL
B44: Quantité de produits fair trade vendus | C44: 7000 | D44: 7000 | E44: 7000 | F44: 7000 | G44: 7000 | H44: 7000 | I44: 7000 | J44: 7000 | K44: 7000 | L44: 7000 | M44: 7000 | N44: 7000 | O44: =SUM(C44:N44) -> 84000
B45: Quantité totale de produits alimentaires vendus | C45: ='1+2+3 E'!C$45 -> 58500 | D45: ='1+2+3 E'!D$45 -> 58500 | E45: ='1+2+3 E'!E$45 -> 58500 | F45: ='1+2+3 E'!F$45 -> 58500 | G45: ='1+2+3 E'!G$45 -> 58500 | H45: ='1+2+3 E'!H$45 -> 58500 | I45: ='1+2+3 E'!I$45 -> 58500 | J45: ='1+2+3 E'!J$45 -> 58500 | ... N45: ='1+2+3 E'!N$45 -> 58500 | O45: =SUM(C45:N45) -> 702000
B46: Proportion de produits fair trade vendus | C46: =C$44/C$45 -> 0.11965812 | D46: =D$44/D$45 -> 0.11965812 | E46: =E$44/E$45 -> 0.11965812 | F46: =F$44/F$45 -> 0.11965812 | G46: =G$44/G$45 -> 0.11965812 | H46: =H$44/H$45 -> 0.11965812 | I46: =I$44/I$45 -> 0.11965812 | J46: =J$44/J$45 -> 0.11965812 | ... O46: =O$44/O$45 -> 0.11965812
B49: Produits fair trade (2020)
C50: Janvier | D50: Février | E50: Mars | F50: Avril | G50: Mai | H50: Juin | I50: Juillet | J50: Août | K50: Septembre | L50: Octobre | M50: Novembre | N50: Décembre | O50: TOTAL
B51: Quantité de produits fair trade vendus | C51: 12000 | D51: 12000 | E51: 12000 | F51: 12000 | G51: 12000 | H51: 12000 | I51: 12000 | J51: 12000 | K51: 12000 | L51: 12000 | M51: 12000 | N51: 12000 | O51: =SUM(C51:N51) -> 144000
B52: Quantité totale de produits alimentaires vendus | C52: ='1+2+3 E'!C$52 -> 64300 | D52: ='1+2+3 E'!D$52 -> 64300 | E52: ='1+2+3 E'!E$52 -> 64300 | F52: ='1+2+3 E'!F$52 -> 64300 | G52: ='1+2+3 E'!G$52 -> 64300 | H52: ='1+2+3 E'!H$52 -> 64300 | I52: ='1+2+3 E'!I$52 -> 64300 | J52: ='1+2+3 E'!J$52 -> 64300 | ... N52: ='1+2+3 E'!N$52 -> 64300 | O52: =SUM(C52:N52) -> 771600
B53: Proportion de produits fair trade vendus | C53: =C$51/C$52 -> 0.18662519 | D53: =D$51/D$52 -> 0.18662519 | E53: =E$51/E$52 -> 0.18662519 | F53: =F$51/F$52 -> 0.18662519 | G53: =G$51/G$52 -> 0.18662519 | H53: =H$51/H$52 -> 0.18662519 | I53: =I$51/I$52 -> 0.18662519 | J53: =J$51/J$52 -> 0.18662519 | ... O53: =O$51/O$52 -> 0.18662519
B56: Produits fair trade/an
C57: 2016 | D57: 2017 | E57: 2018 | F57: 2019 | G57: 2020
B58: Quantité de produits fair trade vendus | C58: =O23 -> 24000 | D58: =O30 -> 30000 | E58: =O37 -> 48000 | F58: =O44 -> 84000 | G58: =O51 -> 144000
B59: Quantité totale de produits alimentaires vendus | C59: =O24 -> 104208 | D59: =O31 -> 362496 | E59: =O38 -> 529440 | F59: =O45 -> 702000 | G59: =O52 -> 771600
B60: Proportion de produits fair trade vendus | C60: =O25 -> 0.23030861 | D60: =O32 -> 0.082759534 | E60: =O39 -> 0.090661831 | F60: =O46 -> 0.11965812 | G60: =O53 -> 0.18662519
A77: 5. Quantité de produits écologiques vendus
...

Sheet 7+8 E
A2: PARTIE ENVIRONNEMENTALE
A7: 7 | B7: Avoir une démarche respectueuse de l'environnement | C7: Garder stable ou diminuer la consommation d'électricité | D7: Consommation d'électricité
A8: 8 | C8: Garder stable ou diminuer la consommation d'eau | D8: Consommation d'eau
A11: 7. Consommation d'électricité
A13: Calculs
B15: Consommation d'électricité (2016)
C16: Janvier-Février-Mars | D16: Avril-Mai-Juin | E16: Juillet-Août-Septembre | F16: Octobre-Novembre-Décembre | G16: TOTAL
B17: Consommation d'électricité (kWh) | C17: 38300 | D17: 30000 | E17: 25000 | F17: 34000 | G17: =SUM(C17:F17) -> 127300
B20: Consommation d'électricité (2017)
C21: Janvier-Février-Mars | D21: Avril-Mai-Juin | E21: Juillet-Août-Septembre | F21: Octobre-Novembre-Décembre | G21: TOTAL
B22: Consommation d'électricité (kWh) | C22: 36600 | D22: 29300 | E22: 22000 | F22: 33700 | G22: =SUM(C22:F22) -> 121600
B25: Consommation d'électricité (2018)
C26: Janvier-Février-Mars | D26: Avril-Mai-Juin | E26: Juillet-Août-Septembre | F26: Octobre-Novembre-Décembre | G26: TOTAL
B27: Consommation d'électricité (kWh) | C27: 39200 | D27: 32100 | E27: 26400 | F27: 35000 | G27: =SUM(C27:F27) -> 132700
B30: Consommation d'électricité (2019)
C31: Janvier-Février-Mars | D31: Avril-Mai-Juin | E31: Juillet-Août-Septembre | F31: Octobre-Novembre-Décembre | G31: TOTAL
B32: Consommation d'électricité (kWh) | C32: 35600 | D32: 29300 | E32: 22800 | F32: 31000 | G32: =SUM(C32:F32) -> 118700
B35: Consommation d'électricité (2020)
C36: Janvier-Février-Mars | D36: Avril-Mai-Juin | E36: Juillet-Août-Septembre | F36: Octobre-Novembre-Décembre | G36: TOTAL
B37: Consommation d'électricité (kWh) | C37: 35000 | D37: 29000 | E37: 22000 | F37: 30000 | G37: =SUM(C37:F37) -> 116000
B40: Consommation d'électricité/an
C41: 2016 | D41: 2017 | E41: 2018 | F41: 2019 | G41: 2020
B42: Consommation d'électricité (kWh) | C42: =G17 -> 127300 | D42: =G22 -> 121600 | E42: =G27 -> 132700 | F42: =G32 -> 118700 | G42: =G37 -> 116000
A60: 8. Consommation d'eau
A62: Calculs
B64: Consommation d'eau (2016)
C65: Janvier-Février-Mars | D65: Avril-Mai-Juin | E65: Juillet-Août-Septembre | F65: Octobre-Novembre-Décembre | G65: TOTAL
B66: Consommation d'eau (L) | C66: 151 | D66: 160 | E66: 180 | F66: 173 | G66: =SUM(C66:F66) -> 664
B69: Consommation d'eau (2017)
C70: Janvier-Février-Mars | D70: Avril-Mai-Juin | E70: Juillet-Août-Septembre | F70: Octobre-Novembre-Décembre | G70: TOTAL
B71: Consommation d'eau (L) | C71: 178 | D71: 184 | E71: 230 | F71: 193 | G71: =SUM(C71:F71) -> 785
B74: Consommation d'eau (2018)
C75: Janvier-Février-Mars | D75: Avril-Mai-Juin | E75: Juillet-Août-Septembre | F75: Octobre-Novembre-Décembre | G75: TOTAL
B76: Consommation d'eau (L) | C76: 347 | D76: 529 | E76: 617 | F76: 528 | G76: =SUM(C76:F76) -> 2021
B79: Consommation d'eau (2019)
C80: Janvier-Février-Mars | D80: Avril-Mai-Juin | E80: Juillet-Août-Septembre | F80: Octobre-Novembre-Décembre | G80: TOTAL
B81: Consommation d'eau (L) | C81: 469 | D81: 629 | E81: 735 | F81: 604 | G81: =SUM(C81:F81) -> 2437
B84: Consommation d'eau (2020)
C85: Janvier-Février-Mars | D85: Avril-Mai-Juin | E85: Juillet-Août-Septembre | F85: Octobre-Novembre-Décembre | G85: TOTAL
B86: Consommation d'eau (L) | C86: 708 | D86: 895 | E86: 943 | F86: 813 | G86: =SUM(C86:F86) -> 3359
...

Sheet 9+10 E
A2: PARTIE ENVIRONNEMENTALE
A7: 9 | B7: Avoir une démarche respectueuse de l'environnement | C7: Se fournir un maximum en énergie provenant de ressources renouvelables | D7: Consommation énergétique provenant de ressources renouvelables/ Consommation énergétique totale
A8: 10 | C8: Trier un maximum les déchets | D8: Quantité de sacs poubelle non triés/ Quantité totale de sacs poubelle
A11: 9. Consommation énergétique provenant de ressources renouvelables
A13: Formules
B15: Proportion de consommation énergétique provenant de ressources renouvelables = Quantité de consommation énergétique provenant de ressources
B16: renouvelables/Consommation énergétique totale
A18: Calculs
B20: Ressources renouvelables (2016)
C21: Janvier-Février-Mars | D21: Avril-Mai-Juin | E21: Juillet-Août-Septembre | F21: Octobre-Novembre-Décembre | G21: TOTAL
B22: Energie provenant de ressources renouvelables (kWh) | C22: 0 | D22: 0 | E22: 0 | F22: 0 | G22: =SUM(C22:F22) -> 0
B23: Consommation énergétique totale (kWh) | C23: 38300 | D23: 30000 | E23: 25000 | F23: 34000 | G23: =SUM(C23:F23) -> 127300
B24: Proportion provenant de ressources renouvelables (kWh) | C24: =C$22/C$23 -> 0 | D24: =D$22/D$23 -> 0 | E24: =E$22/E$23 -> 0 | F24: =F$22/F$23 -> 0 | G24: =G$22/G$23 -> 0
B27: Ressources renouvelables (2017)
C28: Janvier-Février-Mars | D28: Avril-Mai-Juin | E28: Juillet-Août-Septembre | F28: Octobre-Novembre-Décembre | G28: TOTAL
B29: Energie provenant de ressources renouvelables (kWh) | C29: 13000 | D29: 14000 | E29: 15000 | F29: 16000 | G29: =SUM(C29:F29) -> 58000
B30: Consommation énergétique totale (kWh) | C30: 36600 | D30: 29300 | E30: 22000 | F30: 33700 | G30: =SUM(C30:F30) -> 121600
B31: Proportion provenant de ressources renouvelables (kWh) | C31: =C$29/C$30 -> 0.35519126 | D31: =D$29/D$30 -> 0.4778157 | E31: =E$29/E$30 -> 0.68181818 | F31: =F$29/F$30 -> 0.47477745 | G31: =G$29/G$30 -> 0.47697368
B34: Ressources renouvelables (2018)
C35: Janvier-Février-Mars | D35: Avril-Mai-Juin | E35: Juillet-Août-Septembre | F35: Octobre-Novembre-Décembre | G35: TOTAL
